BEGIN:VCALENDAR
PRODID:-//Microsoft Corporation//Outlook 12.0 MIMEDIR//EN
VERSION:2.0
CALSCALE:GREGORIAN
BEGIN:VEVENT
UID: 57f1b12e-4a62-4301-85a1-d4df25f169b3
SUMMARY:Kala ja mereannid toidulaual
DTSTAMP:20180929
DTSTART:20180929
DTEND:20180930
DURATION:P1D
LOCATION:
DESCRIPTION: <p>	Kala ja mereannid toidulaual 29.09.2018 – 20.10.2018</p><p>	Tasuta! Euroopa Sotsiaalfondi toel.</p><p>	Registreerumine lõppenud!</p><p><strong>Link: </strong>https://www.ametikool.ee/et/koolituste-kalender/kala-ja-mereannid-toidulaual</p><p><strong>Hind: </strong></p>
STATUS:CONFIRMED
SEQUENCE:3
X-ALT-DESC;FMTTYPE=text/html:<p>	Kala ja mereannid toidulaual 29.09.2018 – 20.10.2018</p><p>	Tasuta! Euroopa Sotsiaalfondi toel.</p><p>	Registreerumine lõppenud!</p><p><strong>Link: </strong>https://www.ametikool.ee/et/koolituste-kalender/kala-ja-mereannid-toidulaual</p><p><strong>Hind: </strong></p>
X-MICROSOFT-CDO-BUSYSTATUS:OOF
X-MICROSOFT-CDO-IMPORTANCE:1
X-MICROSOFT-DISALLOW-COUNTER:FALSE
X-MS-OLK-ALLOWEXTERNCHECK:TRUE
X-MS-OLK-CONFTYPE:0
X-MICROSOFT-CDO-ALLDAYEVENT:1
X-MICROSOFT-MSNCALENDAR-ALLDAYEVENT:1
END:VEVENT
END:VCALENDAR